BEGIN:VCALENDAR
VERSION:2.0
PRODID:-//ChamberMaster//Event Calendar 2.0//EN
METHOD:PUBLISH
X-PUBLISHED-TTL:P3D
REFRESH-INTERVAL:P3D
CALSCALE:GREGORIAN
BEGIN:VEVENT
DTSTART:20230510T160000Z
DTEND:20230510T170000Z
X-MICROSOFT-CDO-ALLDAYEVENT:FALSE
SUMMARY:Creativity Booster - Note this is a NEW PROGRAM!!
DESCRIPTION:A monthly program to offer the community a 15-minute dose of creativity to help improve both your physical and mental well-being. \n\nLisa Conner   Making E Reading a Joy!!
X-ALT-DESC;FMTTYPE=text/html:<p><strong>A monthly program to offer the community a 15-minute dose of creativity to help improve both your physical and mental well-being.</strong><strong> </strong></p>\n\n<p><strong>Lisa Conner &ndash\; Making E Reading a Joy!!</strong></p>\n
LOCATION:All on Zoom !!! Zoom Link will be sent to you when you RSVP: pdubroof@assistinghands.com For more information please call\, 301-363-2580 Or visit www.assistinghands.com/Potomac
UID:e.797.16957
SEQUENCE:3
DTSTAMP:20260422T090103Z
URL:https://business.rockvillechamber.org/events/details/creativity-booster-note-this-is-a-new-program-05-10-2023-16957
END:VEVENT

END:VCALENDAR
