BEGIN:VCALENDAR
VERSION:2.0
PRODID:-//ChamberMaster//Event Calendar 2.0//EN
METHOD:PUBLISH
X-PUBLISHED-TTL:P3D
REFRESH-INTERVAL:P3D
CALSCALE:GREGORIAN
BEGIN:VEVENT
DTSTART:20250207T133000Z
DTEND:20250207T150000Z
X-MICROSOFT-CDO-ALLDAYEVENT:FALSE
SUMMARY:Coffee & Commerce at Montgomery Community Media
DESCRIPTION:This event will kick off with coffee and networking from 8:30 am - 9:00 am in the Community Corner\, followed by engaging roundtable discussions led by industry experts.\n\nThe tentative agenda is: \n\n8:30 am - 9:00 am- Coffee and Informal Networking in MCM Community Corner\n\n9:00 am - 10:00 am- Roundtable Discussions with Experts\n\n\n	Table 1: Bryan Washington\, MCM   Using Video to Elevate Your Brand\n	Table 2: Rahwa Andemichael & Olivia Goldstein\, MCM   Digital Marketing Strategies\n	Table 3:  Cliff Chiet\, iHeart Media - Why Audio is HOT!\n	Table 4:  Brad Hocker- Effectv "Reach the right audience and drive measurable results."\n\n\nLed by professionals from MCM\, iHeart Media and Effectv each table will focus on a different area of growth:\n\n\n	\n	Using Video to Elevate Your Brand (Bryan)\n\n	Learn how video content can boost your brand visibility and connect with your audience in powerful ways. Bryan will share strategies for leveraging video to create engaging and impactful content.\n	\n	\n	Digital Marketing Strategies (Rahwa/Olivia)\n\n	Discover effective digital marketing techniques to enhance your online presence\, drive traffic\, and convert leads. Rahwa and Olivia will discuss everything from SEO to social media campaigns.\n	\n	\n	iHeart Media Insights \n\n	Gain insights from iHeart Media on how to leverage audio advertising and media partnerships to elevate your brand. The rep will discuss strategies to help you effectively reach your target audience through audio platforms.\n	\n	\n	Maximizing Your Impact with Digital Video Advertising (Effectv)\n\n	Effectv will share expert advice on how to harness the power of digital video advertising to reach the right audience and drive measurable results. Learn how video can be strategically integrated into your marketing plan for maximum impact.
X-ALT-DESC;FMTTYPE=text/html:<div style="font-style: italic\; margin-top: 1em\; margin-bottom: 1em\; font-family: Aptos\, Aptos_EmbeddedFont\, Aptos_MSFontService\, Calibri\, Helvetica\, sans-serif\; font-size: 12pt\; color: rgb(0\, 0\, 0)\;">This event will kick off with coffee and networking from 8:30 am - 9:00 am in the Community Corner\, followed by engaging roundtable discussions led by industry experts.</div>\n\n<div style="font-style: italic\; margin-top: 1em\; margin-bottom: 1em\; font-family: Aptos\, Aptos_EmbeddedFont\, Aptos_MSFontService\, Calibri\, Helvetica\, sans-serif\; font-size: 12pt\; color: rgb(0\, 0\, 0)\;"><strong>The tentative agenda is:&nbsp\;</strong></div>\n\n<div style="font-style: italic\; margin-top: 1em\; margin-bottom: 1em\; font-family: Aptos\, Aptos_EmbeddedFont\, Aptos_MSFontService\, Calibri\, Helvetica\, sans-serif\; font-size: 12pt\; color: rgb(0\, 0\, 0)\;">8:30 am&nbsp\;- 9:00 am- Coffee and Informal Networking in MCM Community Corner<br />\n9:00 am - 10:00 am- Roundtable Discussions with Experts</div>\n\n<ul font-size:="" font-style:="" new="" style="color: rgb(34\, 34\, 34)\; font-family: Georgia\, Times\, " times="">\n	<li style="margin-left: 15px\; font-family: Aptos\, Aptos_EmbeddedFont\, Aptos_MSFontService\, Calibri\, Helvetica\, sans-serif\; font-size: 12pt\; color: rgb(0\, 0\, 0)\;"><strong>Table 1:</strong>&nbsp\;Bryan Washington\, MCM &ndash\; Using Video to Elevate Your Brand</li>\n	<li style="margin-left: 15px\; font-family: Aptos\, Aptos_EmbeddedFont\, Aptos_MSFontService\, Calibri\, Helvetica\, sans-serif\; font-size: 12pt\; color: rgb(0\, 0\, 0)\;"><strong>Table 2:</strong>&nbsp\;Rahwa Andemichael &amp\; Olivia Goldstein\, MCM &ndash\; Digital Marketing Strategies</li>\n	<li style="margin-left: 15px\; font-family: Aptos\, Aptos_EmbeddedFont\, Aptos_MSFontService\, Calibri\, Helvetica\, sans-serif\; font-size: 12pt\; color: rgb(0\, 0\, 0)\;"><strong>Table 3:</strong>&nbsp\; Cliff Chiet\, iHeart Media - Why Audio is HOT!</li>\n	<li style="margin-left: 15px\; font-family: Aptos\, Aptos_EmbeddedFont\, Aptos_MSFontService\, Calibri\, Helvetica\, sans-serif\; font-size: 12pt\; color: rgb(0\, 0\, 0)\;"><strong>Table 4:</strong>&nbsp\; <span style="color: rgb(0\, 0\, 0)\; font-family: Aptos\, Aptos_EmbeddedFont\, Aptos_MSFontService\, Calibri\, Helvetica\, sans-serif\; font-size: 16px\;">Brad Hocker- Effectv &quot\;Reach the right audience and drive measurable results.&quot\;</span></li>\n</ul>\n\n<div style="font-style: italic\; font-family: Aptos\, Aptos_EmbeddedFont\, Aptos_MSFontService\, Calibri\, Helvetica\, sans-serif\; font-size: 12pt\; color: rgb(0\, 0\, 0)\;">Led by professionals from MCM\,&nbsp\;iHeart Media and Effectv&nbsp\;each table will focus on a different area of growth:</div>\n\n<ul font-size:="" font-style:="" new="" style="color: rgb(34\, 34\, 34)\; font-family: Georgia\, Times\, " times="">\n	<li style="margin-left: 15px\; font-family: Aptos\, Aptos_EmbeddedFont\, Aptos_MSFontService\, Calibri\, Helvetica\, sans-serif\; font-size: 12pt\; color: rgb(0\, 0\, 0)\;">\n	<div style="margin-top: 1em\; margin-bottom: 1em\;"><strong>Using Video to Elevate Your Brand</strong>&nbsp\;(Bryan)<br />\n	Learn how video content can boost your brand visibility and connect with your audience in powerful ways. Bryan will share strategies for leveraging video to create engaging and impactful content.</div>\n	</li>\n	<li style="margin-left: 15px\; font-family: Aptos\, Aptos_EmbeddedFont\, Aptos_MSFontService\, Calibri\, Helvetica\, sans-serif\; font-size: 12pt\; color: rgb(0\, 0\, 0)\;">\n	<div style="margin-top: 1em\; margin-bottom: 1em\;"><strong>Digital Marketing Strategies</strong>&nbsp\;(Rahwa/Olivia)<br />\n	Discover effective digital marketing techniques to enhance your online presence\, drive traffic\, and convert leads. Rahwa and Olivia will discuss everything from SEO to social media campaigns.</div>\n	</li>\n	<li style="margin-left: 15px\; font-family: Aptos\, Aptos_EmbeddedFont\, Aptos_MSFontService\, Calibri\, Helvetica\, sans-serif\; font-size: 12pt\; color: rgb(0\, 0\, 0)\;">\n	<div style="margin-top: 1em\; margin-bottom: 1em\;"><strong>iHeart Media Insights</strong>&nbsp\;<br />\n	Gain insights from iHeart Media on how to leverage audio advertising and media partnerships to elevate your brand. The rep will discuss strategies to help you effectively reach your target audience through audio platforms.</div>\n	</li>\n	<li style="margin-left: 15px\; font-family: Aptos\, Aptos_EmbeddedFont\, Aptos_MSFontService\, Calibri\, Helvetica\, sans-serif\; font-size: 12pt\; color: rgb(0\, 0\, 0)\;">\n	<div style="margin-top: 1em\; margin-bottom: 1em\;"><strong>Maximizing Your Impact with Digital Video Advertising</strong>&nbsp\;(Effectv)<br />\n	Effectv&nbsp\;will share expert advice on how to harness the power of digital video advertising to reach the right audience and drive measurable results. Learn how video can be strategically integrated into your marketing plan for maximum impact.</div>\n	</li>\n</ul>\n
LOCATION:Montgomery Community Media 7548 Standish Place Rockville\, MD 20855
UID:e.797.24701
SEQUENCE:3
DTSTAMP:20260423T205343Z
URL:https://business.rockvillechamber.org/events/details/coffee-commerce-at-montgomery-community-media-24701
END:VEVENT

END:VCALENDAR
