BEGIN:VCALENDAR
VERSION:2.0
PRODID:-//ChamberMaster//Event Calendar 2.0//EN
METHOD:PUBLISH
X-PUBLISHED-TTL:P3D
REFRESH-INTERVAL:P3D
CALSCALE:GREGORIAN
BEGIN:VEVENT
DTSTART:20241206T133000Z
DTEND:20241206T150000Z
X-MICROSOFT-CDO-ALLDAYEVENT:FALSE
SUMMARY:Coffee & Commerce at Fresh Baguette
DESCRIPTION:Join us for our monthly Coffee & Commerce at Fresh Baguette and start your morning off right with the Greater Rockville Chamber of Commerce's Coffee & Commerce networking event! Connect with local business professionals\, exchange ideas\, and build valuable relationships in a relaxed and friendly atmosphere.\n\n\n\nEnjoy a hot cup of coffee\, engaging conversations\, and the opportunity to expand your professional network. Don't forget to bring your business cards!
X-ALT-DESC;FMTTYPE=text/html:<span style="font-size:14px\;"><span style="font-family:arial\;">Join us for our monthly Coffee &amp\; Commerce at&nbsp\;</span></span><span style="color: rgb(34\, 34\, 34)\; font-family: Arial\, Helvetica\, sans-serif\; font-size: small\;">Fresh Baguette</span><span style="font-size:14px\;"><span style="font-family:arial\;"> and s<span style="color: rgb(20\, 20\, 20)\;">tart your morning off right with the Greater Rockville Chamber of Commerce&#39\;s Coffee &amp\; Commerce networking event! Connect with local business professionals\, exchange ideas\, and build valuable relationships in a relaxed and friendly atmosphere.</span><br style="box-sizing: border-box\; color: rgb(20\, 20\, 20)\; font-family: Tahoma\, Helvetica\, Geneva\, Swiss\, SunSans-Regular\; font-size: 14px\;" />\n<br style="box-sizing: border-box\; color: rgb(20\, 20\, 20)\; font-family: Tahoma\, Helvetica\, Geneva\, Swiss\, SunSans-Regular\; font-size: 14px\;" />\n<span style="color: rgb(20\, 20\, 20)\;">Enjoy a hot cup of coffee\, engaging conversations\, and the opportunity to expand your professional network. Don&rsquo\;t forget to bring your business cards!</span></span></span>
LOCATION:Fresh Baguette 804 Hungerford Dr. Rockville\, MD 20850
UID:e.797.23341
SEQUENCE:3
DTSTAMP:20260423T225030Z
URL:https://business.rockvillechamber.org/events/details/coffee-commerce-at-fresh-baguette-23341
END:VEVENT

END:VCALENDAR
