BEGIN:VCALENDAR
VERSION:2.0
PRODID:-//ChamberMaster//Event Calendar 2.0//EN
METHOD:PUBLISH
X-PUBLISHED-TTL:P3D
REFRESH-INTERVAL:P3D
CALSCALE:GREGORIAN
BEGIN:VEVENT
DTSTART:20250404T123000Z
DTEND:20250404T133000Z
X-MICROSOFT-CDO-ALLDAYEVENT:FALSE
SUMMARY:Coffee and Commerce at Lafayette FCU
DESCRIPTION:Join us at Lafayette Federal Credit Union at 8:30 for a hot cup of coffee and delicious breakfast items served by "The Omelette Guys"\n\n \n\n Connect with local business professionals\, exchange ideas\, and build valuable relationships in a relaxed and friendly atmosphere.\n\n \n\nHere is an opportunity to expand your professional network. Don't forget to bring your business cards!
X-ALT-DESC;FMTTYPE=text/html:<p style="margin: 0px\; padding: 0px\; color: rgb(54\, 73\, 95)\; font-family: &quot\;Trebuchet MS&quot\;\, Verdana\, Helvetica\, sans-serif\; font-size: 14px\;"><span style="font-family: Arial\, Verdana\, Helvetica\, sans-serif\; color: rgb(9\, 12\, 15)\; font-size: 16px\;">Join us at Lafayette Federal Credit Union at 8:30 for a hot cup of coffee and delicious breakfast items served by &quot\;The Omelette Guys&quot\;</span></p>\n\n<p style="margin: 0px\; padding: 0px\; color: rgb(54\, 73\, 95)\; font-family: &quot\;Trebuchet MS&quot\;\, Verdana\, Helvetica\, sans-serif\; font-size: 14px\;">&nbsp\;</p>\n\n<p style="margin: 0px\; padding: 0px\; color: rgb(54\, 73\, 95)\; font-family: &quot\;Trebuchet MS&quot\;\, Verdana\, Helvetica\, sans-serif\; font-size: 14px\;"><span style="font-size: 16px\; color: rgb(20\, 20\, 20)\; font-family: Arial\, Verdana\, Helvetica\, sans-serif\;">&#65279\;Connect with local business professionals\, exchange ideas\, and build valuable relationships in a relaxed and friendly atmosphere.</span></p>\n\n<p style="margin: 0px\; padding: 0px\; color: rgb(54\, 73\, 95)\; font-family: &quot\;Trebuchet MS&quot\;\, Verdana\, Helvetica\, sans-serif\; font-size: 14px\;">&nbsp\;</p>\n\n<p style="margin: 0px\; padding: 0px\; color: rgb(54\, 73\, 95)\; font-family: &quot\;Trebuchet MS&quot\;\, Verdana\, Helvetica\, sans-serif\; font-size: 14px\;"><span style="font-size: 16px\; color: rgb(20\, 20\, 20)\; font-family: Arial\, Verdana\, Helvetica\, sans-serif\;">Here is an opportunity to expand your professional network. Don&rsquo\;t forget to bring your business cards!</span></p>\n
LOCATION:Lafayette Federal Credit Union 14933 Shady Grove Rd Rockville\, MD 20850
UID:e.797.24707
SEQUENCE:3
DTSTAMP:20260423T185757Z
URL:https://business.rockvillechamber.org/events/details/coffee-and-commerce-at-lafayette-fcu-24707
END:VEVENT

END:VCALENDAR
