BEGIN:VCALENDAR
VERSION:2.0
PRODID:-//ChamberMaster//Event Calendar 2.0//EN
METHOD:PUBLISH
X-PUBLISHED-TTL:P3D
REFRESH-INTERVAL:P3D
CALSCALE:GREGORIAN
BEGIN:VEVENT
DTSTART:20210928T210000Z
DTEND:20210928T220000Z
X-MICROSOFT-CDO-ALLDAYEVENT:FALSE
SUMMARY:CEO Roundtable 2021
DESCRIPTION:The Rockville Chamber of Commerce holds a closed meeting each month for CEO's to discuss best practices and other issues facing their companies or industries.  \n\n\n\nThis is a closed group and requires pre qualification and registration with the Chamber President.\n\n\n\nIf you are interested\, please contact Dawn Quicksell-Hipsley at dawn@rockvillechamber.org.
X-ALT-DESC;FMTTYPE=text/html:<br />\nThe Rockville Chamber of Commerce holds a <u><strong>closed meeting</strong></u> each month for CEO&#39\;s to discuss best practices and other issues facing their companies or industries. &nbsp\;<br />\n<br />\n<strong><em>This is a closed group and requires pre qualification and registration&nbsp\;with the Chamber President.<br />\n<br />\nIf you are interested\, please contact Dawn Quicksell-Hipsley at&nbsp\;dawn@rockvillechamber.org.</em></strong>
LOCATION:ZOOM
UID:e.797.14688
SEQUENCE:3
DTSTAMP:20260425T153459Z
URL:https://business.rockvillechamber.org/events/details/ceo-mastermind-2021-09-28-2021-14688
END:VEVENT

END:VCALENDAR
