BEGIN:VCALENDAR
VERSION:2.0
PRODID:-//ChamberMaster//Event Calendar 2.0//EN
METHOD:PUBLISH
X-PUBLISHED-TTL:P3D
REFRESH-INTERVAL:P3D
CALSCALE:GREGORIAN
BEGIN:VEVENT
DTSTART:20250420T150000Z
DTEND:20250421T010000Z
X-MICROSOFT-CDO-ALLDAYEVENT:FALSE
SUMMARY:Celebrate Easter at Fogo de Chão Bethesda
DESCRIPTION:This year\, celebrate an unforgettable Easter feast with a churrasco experience from Fogo!\n\n\n\nPricing will reflect Dinner all day\; however\, Brunch items will be served until 2:00pm.\n\nReservations required and spots are filling up fast so make your reservation today. Please call (301) 841-9200 with any questions.\n\n\n\nHosting at home for Easter? We'll bring the Fire with Fogo Catering.\n\n\n\nThis year\, make Easter a meal to remember with one of our catered churrasco experiences. Enjoy fire-roasted meats\, delicious Brazilian sides\, cheesy Pao de Queijo\, and more. Choose from our Classic\, Premium\, or Build Your Own Packages for groups of ten or more\, available for pick-up. All packages require minimum 24-hour advance order notice. E-mail bethesdaevents@fogo.com to with any questions or to place your Easter Catering order.
X-ALT-DESC;FMTTYPE=text/html:This year\, celebrate an unforgettable Easter feast with a churrasco experience from Fogo!<br />\n<br />\nPricing will reflect Dinner all day\; however\, Brunch items will be served until 2:00pm.<br />\nReservations required and spots are filling up fast so make your reservation today. Please call (301) 841-9200 with any questions.<br />\n<br />\nHosting at home for Easter? We&#39\;ll bring the Fire with Fogo Catering.<br />\n<br />\nThis year\, make Easter a meal to remember with one of our catered churrasco experiences. Enjoy fire-roasted meats\, delicious Brazilian sides\, cheesy Pao de Queijo\, and more. Choose from our Classic\, Premium\, or Build Your Own Packages for groups of ten or more\, available for pick-up. All packages require minimum 24-hour advance order notice. E-mail bethesdaevents@fogo.com to with any questions or to place your Easter Catering order.
LOCATION:Fogo de Ch o Bethesda 11600 Old Georgetown Rd\, North Bethesda\, MD 20852
UID:e.797.24957
SEQUENCE:3
DTSTAMP:20260423T205741Z
URL:https://business.rockvillechamber.org/events/details/celebrate-easter-at-fogo-de-ch&#227;o-bethesda-24957
END:VEVENT

END:VCALENDAR
