BEGIN:VCALENDAR
VERSION:2.0
PRODID:-//ChamberMaster//Event Calendar 2.0//EN
METHOD:PUBLISH
X-PUBLISHED-TTL:P3D
REFRESH-INTERVAL:P3D
CALSCALE:GREGORIAN
BEGIN:VEVENT
DTSTART:20241209T233000Z
DTEND:20241210T013000Z
X-MICROSOFT-CDO-ALLDAYEVENT:FALSE
SUMMARY:Caring for the Caregiver with Hope Connections for Cancer
DESCRIPTION:Monday\, December 9\, 6:30 pm. Caring For The Caregiver With Hope Connections For Cancer. Presented by Patricia Dubroof on Zoom. "Think gratitude! Learn steps to support your caregiver! Even when the caregiver is you."
X-ALT-DESC;FMTTYPE=text/html:<strong>Monday\, December 9\, 6:30 pm. Caring For The Caregiver With Hope Connections For Cancer.&nbsp\;</strong><span style="background-color:rgb(255\, 255\, 255)\; color:rgb(131\, 99\, 99)\; font-family:arvo\,serif\; font-size:15px">Presented by Patricia Dubroof on Zoom. &ldquo\;Think gratitude! Learn steps to support your caregiver! Even when the caregiver is you.&rdquo\;</span>
LOCATION:This and all future events sponsored by Assisting Hands Home Care\, Potomac will be held virtually via Zoom until further notice. Please register for this event by going to our website and signing up directly through our events page\, located near the bottom left of our home page. (www.assistinghandspotomac.com ) A link will be sent to each participant on the morning of the event.
UID:e.797.24696
SEQUENCE:3
DTSTAMP:20260423T225833Z
URL:https://business.rockvillechamber.org/events/details/caring-for-the-caregiver-with-hope-connections-for-cancer-24696
END:VEVENT

END:VCALENDAR
