BEGIN:VCALENDAR
VERSION:2.0
PRODID:-//ChamberMaster//Event Calendar 2.0//EN
METHOD:PUBLISH
X-PUBLISHED-TTL:P3D
REFRESH-INTERVAL:P3D
CALSCALE:GREGORIAN
BEGIN:VEVENT
DTSTART:20250506T134500Z
DTEND:20250506T150000Z
X-MICROSOFT-CDO-ALLDAYEVENT:FALSE
SUMMARY:Caregivers + Creativity = Brain health
DESCRIPTION:Learn about how caregivers that take advantage of creativity practices improve their well-being. Patricia is honored to present for the Commission on Aging. Please join us.
X-ALT-DESC;FMTTYPE=text/html:<span style="background-color:rgb(255\, 254\, 254)\; color:rgb(6\, 18\, 34)\; font-family:jost\,sans-serif\; font-size:20px">Learn about how caregivers that take advantage of creativity practices improve their well-being. Patricia is honored to present for the Commission on Aging. Please join us.</span>
LOCATION:This and all future events sponsored by Assisting Hands Home Care\, Potomac\, will be held virtually via Zoom until further notice. Please register for this event by going to our website and signing up directly through our events page\, located near the bottom left of our home page. (www.assistinghandspotomac.com ) A link will be sent to each participant on the morning of the event.
UID:e.797.25395
SEQUENCE:3
DTSTAMP:20260423T205556Z
URL:https://business.rockvillechamber.org/events/details/caregivers-creativity-brain-health-25395
END:VEVENT

END:VCALENDAR
