BEGIN:VCALENDAR
VERSION:2.0
PRODID:-//ChamberMaster//Event Calendar 2.0//EN
METHOD:PUBLISH
X-PUBLISHED-TTL:P3D
REFRESH-INTERVAL:P3D
CALSCALE:GREGORIAN
BEGIN:VEVENT
DTSTART:20230911T123000Z
DTEND:20230911T133000Z
X-MICROSOFT-CDO-ALLDAYEVENT:FALSE
SUMMARY:Business Owner's Mastermind Group
DESCRIPTION:The Business Owner's Mastermind Group is designed to support business owners who navigate through the challenges of entrepreneurship by taking advantage of and sharing our collective experience\, stories\, and the spirit to always play at 110%.\n\n\n\nFacilitated by Josh Funk of Rehab 2 Perform\, this group is capped at 15 participants.
X-ALT-DESC;FMTTYPE=text/html:The Business Owner&#39\;s Mastermind Group is designed to support business owners who navigate through the challenges of entrepreneurship by taking advantage of and sharing our collective experience\, stories\, and the spirit to always play at 110%.<br />\n<br />\nFacilitated by Josh Funk of Rehab 2 Perform\, this group is capped at 15 participants.
LOCATION:Zoom
UID:e.797.18871
SEQUENCE:3
DTSTAMP:20260422T162343Z
URL:https://business.rockvillechamber.org/events/details/business-owner-s-mastermind-group-18871
END:VEVENT

END:VCALENDAR
