BEGIN:VCALENDAR
VERSION:2.0
PRODID:-//ChamberMaster//Event Calendar 2.0//EN
METHOD:PUBLISH
X-PUBLISHED-TTL:P3D
REFRESH-INTERVAL:P3D
CALSCALE:GREGORIAN
BEGIN:VEVENT
DTSTART:20250211T220000Z
DTEND:20250211T230000Z
X-MICROSOFT-CDO-ALLDAYEVENT:FALSE
SUMMARY:Business Minds Book Club
DESCRIPTION:Come and join our brand new Business Minds Book Club
X-ALT-DESC;FMTTYPE=text/html:Come and join our brand new Business Minds Book Club
LOCATION:Chef Tony's 12307 Wilkins Avenue Rockville\, MD
UID:e.797.24735
SEQUENCE:3
DTSTAMP:20260423T205426Z
URL:https://business.rockvillechamber.org/events/details/business-minds-book-club-24735
END:VEVENT

END:VCALENDAR
