BEGIN:VCALENDAR
VERSION:2.0
PRODID:-//ChamberMaster//Event Calendar 2.0//EN
METHOD:PUBLISH
X-PUBLISHED-TTL:P3D
REFRESH-INTERVAL:P3D
CALSCALE:GREGORIAN
BEGIN:VEVENT
DTSTART:20220610T000000Z
DTEND:20220610T020000Z
X-MICROSOFT-CDO-ALLDAYEVENT:FALSE
SUMMARY:Bria Skonberg
DESCRIPTION:Described as one of the "most versatile and imposing musicians of her generation\," (The Wall Street Journal) Bria Skonberg blends modern-day pop sensibility with sizzling musicianship. Since storming onto the jazz scene with her smoky vocals\, blistering trumpet\, and compelling compositions\, the Juno Award winner has played with U2\, the Dave Matthews Band\, Jon Batiste\, and sang the National Anthem at Madison Square Garden. Her latest album\, Nothing Never Happens\, offers striking originals and creative covers of Queen\, The Beatles\, Duke Ellington\, and more.
X-ALT-DESC;FMTTYPE=text/html:<span style="color:rgb(66\, 66\, 67)\; font-family:lora\,times new roman\,georgia\,sans-serif\; font-size:20px">Described as one of the &ldquo\;most versatile and imposing musicians of her generation\,&rdquo\; (</span><em>The Wall Street Journal</em><span style="color:rgb(66\, 66\, 67)\; font-family:lora\,times new roman\,georgia\,sans-serif\; font-size:20px">)&nbsp\;Bria&nbsp\;Skonberg&nbsp\;blends modern-day pop sensibility with sizzling musicianship.&nbsp\;Since storming&nbsp\;onto the jazz scene with her smoky vocals\, blistering trumpet\, and compelling compositions\, the Juno Award winner has played with U2\, the Dave Matthews Band\, Jon Batiste\, and sang the National Anthem at Madison Square Garden. Her latest album\,&nbsp\;</span><em>Nothing Never Happens</em><span style="color:rgb(66\, 66\, 67)\; font-family:lora\,times new roman\,georgia\,sans-serif\; font-size:20px">\, offers striking originals and creative covers of Queen\, The Beatles\, Duke Ellington\, and more.</span>
LOCATION:AMP by Strathmore
UID:e.797.16115
SEQUENCE:3
DTSTAMP:20260423T154256Z
URL:https://business.rockvillechamber.org/events/details/bria-skonberg-16115
END:VEVENT

END:VCALENDAR
