BEGIN:VCALENDAR
VERSION:2.0
PRODID:-//ChamberMaster//Event Calendar 2.0//EN
METHOD:PUBLISH
X-PUBLISHED-TTL:P3D
REFRESH-INTERVAL:P3D
CALSCALE:GREGORIAN
BEGIN:VEVENT
DTSTART:20250118T230000Z
DTEND:20250119T020000Z
X-MICROSOFT-CDO-ALLDAYEVENT:FALSE
SUMMARY:Bogart's Food & Spirits presents Tina Franklin LIVE!
DESCRIPTION:Join us for an evening of great food\, drink\, and live music by Tina Franklin of the Locktenders. \n\n\n\nNo cover\, reservations recommended. 301-424-4940
X-ALT-DESC;FMTTYPE=text/html:Join us for an evening of great food\, drink\, and live music by Tina Franklin of the Locktenders.&nbsp\;<br />\n<br />\nNo cover\, reservations recommended. 301-424-4940
LOCATION:1251 W Montgomery Ave. Rockville\, MD 20850
UID:e.797.24719
SEQUENCE:3
DTSTAMP:20260423T225840Z
URL:https://business.rockvillechamber.org/events/details/bogart-s-food-spirits-presents-tina-franklin-live-24719
END:VEVENT

END:VCALENDAR
