BEGIN:VCALENDAR
VERSION:2.0
PRODID:-//ChamberMaster//Event Calendar 2.0//EN
METHOD:PUBLISH
X-PUBLISHED-TTL:P3D
REFRESH-INTERVAL:P3D
CALSCALE:GREGORIAN
BEGIN:VEVENT
DTSTART:20250327T133000Z
DTEND:20250327T160000Z
X-MICROSOFT-CDO-ALLDAYEVENT:FALSE
SUMMARY:BLIC Meeting: Employee Wellness and Engagement
DESCRIPTION:The Business Leaders Impact Council (BLIC) works to connect businesses and build engaged  communities to have a collaborative impact in Montgomery County.\n\nTo succeed in today's business landscape\, organizations must prioritize talent retention as a key strategy for overcoming challenges. Employee engagement is the level of emotional investment\, enthusiasm\, and commitment employees bring to their work\, driving innovation\, productivity\, and long-term success.  Employee well-being goes beyond physical health it encompasses a sense of belonging and the support needed to thrive professionally and personally.  According to data collected by Arbinger Institute\, organizations with high job satisfaction are nearly 7x more likely to see significant revenue increases.\n\nJoin BLIC to explore how organizations can cultivate a workplace where employees feel valued and motivated\, leading to higher retention\, stronger performance\, and increased profitability.\n\nWhy attend:\n\nConnect with fellow business leaders to exchange insights\, share best practices\, and explore innovative approaches to building a workplace where employees feel empowered\, supported\, and committed to your organization's success.\n\nTogether We Will Explore:\n\n  The direct impact of employee engagement on organizational success.\n\n  Effective strategies to enhance employee engagement and well-being.\n\n  Success stories of wellness initatives that foster a more committed and productive workforce.\n\nWho should attend:\n\n  Human Resources & People Operations Professionals\n\n  Corporate Social Responsibility (CSR) Leaders\n\n  Directors\, supervisors\, and managers seeking to boost team performance and morale\n\n  C-Suite Executives dedicated to prioritizing the needs of their workforce\n\nOutcomes:\n\n  Identify the key ways employee engagement drives organizational success and apply insights to improve retention\, productivity\, and profitability.\n\n  Implement effective strategies and actionable plans to enhance employee engagement and well-being within your organization.\n\n  Apply lessons from real-world success stories to design wellness initiatives that foster a more committed and productive workforce.
X-ALT-DESC;FMTTYPE=text/html:<p background-color:="" font-size:="" open="" style="box-sizing: border-box\; margin: 0px 0px 20px\; color: rgb(0\, 0\, 0)\; font-family: ">The Business Leaders Impact Council (BLIC) works to connect businesses and build engaged&nbsp\; communities to have a collaborative impact in Montgomery County.</p>\n\n<p background-color:="" font-size:="" open="" style="box-sizing: border-box\; margin: 0px 0px 20px\; color: rgb(0\, 0\, 0)\; font-family: ">To succeed in today&rsquo\;s business landscape\, organizations must prioritize talent retention as a key strategy for overcoming challenges. Employee engagement is the level of emotional investment\, enthusiasm\, and commitment employees bring to their work\, driving innovation\, productivity\, and long-term success.&nbsp\; Employee well-being goes beyond physical health&mdash\;it encompasses a sense of belonging and the support needed to thrive professionally and personally.&nbsp\;&nbsp\;According to data collected by Arbinger Institute\, organizations with high job satisfaction are nearly 7x more likely to see significant revenue increases.</p>\n\n<p background-color:="" font-size:="" open="" style="box-sizing: border-box\; margin: 0px 0px 20px\; color: rgb(0\, 0\, 0)\; font-family: ">Join BLIC to explore how organizations can cultivate a workplace where employees feel valued and motivated\, leading to higher retention\, stronger performance\, and increased profitability.</p>\n\n<p background-color:="" font-size:="" open="" style="box-sizing: border-box\; margin: 0px 0px 20px\; color: rgb(0\, 0\, 0)\; font-family: "><span style="box-sizing: border-box\; font-weight: bolder\;">Why attend:</span><br style="box-sizing: border-box\;" />\nConnect with fellow business leaders to exchange insights\, share best practices\, and explore innovative approaches to building a workplace where employees feel empowered\, supported\, and committed to your organization&rsquo\;s success.</p>\n\n<p background-color:="" font-size:="" open="" style="box-sizing: border-box\; margin: 0px 0px 20px\; color: rgb(0\, 0\, 0)\; font-family: "><span style="box-sizing: border-box\; font-weight: bolder\;">Together We Will Explore:</span><br style="box-sizing: border-box\;" />\n&bull\; The direct impact of employee engagement on organizational success.<br style="box-sizing: border-box\;" />\n&bull\; Effective strategies to enhance employee engagement and well-being.<br style="box-sizing: border-box\;" />\n&bull\; Success stories of wellness initatives that foster a more committed and productive workforce.</p>\n\n<p background-color:="" font-size:="" open="" style="box-sizing: border-box\; margin: 0px 0px 20px\; color: rgb(0\, 0\, 0)\; font-family: "><span style="box-sizing: border-box\; font-weight: bolder\;">Who should attend:</span><br style="box-sizing: border-box\;" />\n&bull\; Human Resources &amp\; People Operations Professionals<br style="box-sizing: border-box\;" />\n&bull\; Corporate Social Responsibility (CSR) Leaders<br style="box-sizing: border-box\;" />\n&bull\; Directors\, supervisors\, and managers seeking to boost team performance and morale<br style="box-sizing: border-box\;" />\n&bull\; C-Suite Executives dedicated to prioritizing the needs of their workforce</p>\n\n<p background-color:="" font-size:="" open="" style="box-sizing: border-box\; margin: 0px\; color: rgb(0\, 0\, 0)\; font-family: "><span style="box-sizing: border-box\; font-weight: bolder\;">Outcomes:</span><br style="box-sizing: border-box\;" />\n&bull\; Identify the key ways employee engagement drives organizational success and apply insights to improve retention\, productivity\, and profitability.<br style="box-sizing: border-box\;" />\n&bull\; Implement effective strategies and actionable plans to enhance employee engagement and well-being within your organization.<br style="box-sizing: border-box\;" />\n&bull\; Apply lessons from real-world success stories to design wellness initiatives that foster a more committed and productive workforce.</p>\n
LOCATION:Leadership Montgomery Office 6010 Executive Blvd Suite 200 Rockville\, MD 20852
UID:e.797.24820
SEQUENCE:3
DTSTAMP:20260423T133450Z
URL:https://business.rockvillechamber.org/events/details/blic-meeting-employee-wellness-and-engagement-24820
END:VEVENT

END:VCALENDAR
