BEGIN:VCALENDAR
VERSION:2.0
PRODID:-//ChamberMaster//Event Calendar 2.0//EN
METHOD:PUBLISH
X-PUBLISHED-TTL:P3D
REFRESH-INTERVAL:P3D
CALSCALE:GREGORIAN
BEGIN:VEVENT
DTSTART:20250124T200000Z
DTEND:20250124T210000Z
X-MICROSOFT-CDO-ALLDAYEVENT:FALSE
SUMMARY:BEPS Virtual Conversation with T&E Chair Evan Glass and Director Jon Monger
DESCRIPTION:We invite you to a virtual conversation with T&E Chair Evan Glass and Department of Environmental Protection Director Jon Monger to discuss the BEPS regulations in advance of the upcoming TE Committee work session.\n\n \nBEPS Virtual Conversation with T&E Chair Evan Glass and Director Jon Monger\n\n\n	When: Friday\, January 24\, at 3:00 PM\n	Where: Zoom\n	RSVP: Link\n	Questions: Valeria.Carranza@montgomerycountymd.gov
X-ALT-DESC;FMTTYPE=text/html:<span style="color: rgb(36\, 36\, 36)\; font-family: Georgia\, serif\; font-size: small\;">We invite you to a virtual conversation with T&amp\;E Chair Evan Glass and Department of Environmental Protection Director Jon Monger to discuss the BEPS regulations in advance of the upcoming TE Committee work session.</span><br />\n&nbsp\;\n<p style="color: rgb(34\, 34\, 34)\; font-family: Arial\, Helvetica\, sans-serif\; font-size: small\; margin-right: 0in\; margin-bottom: 12pt\; margin-left: 0in\;"><b><span style="font-family: Georgia\, serif\; color: rgb(36\, 36\, 36)\; background-image: initial\; background-position: initial\; background-size: initial\; background-repeat: initial\; background-attachment: initial\; background-origin: initial\; background-clip: initial\;">BEPS Virtual Conversation with T&amp\;E Chair Evan Glass and Director Jon Monger</span></b></p>\n\n<ul style="color: rgb(34\, 34\, 34)\; font-family: Arial\, Helvetica\, sans-serif\; font-size: small\; margin-top: 0in\;" type="disc">\n	<li style="margin-left: 15px\; color: rgb(36\, 36\, 36)\; margin-top: 12pt\; margin-bottom: 0in\; vertical-align: baseline\;"><b><span style="font-family: Georgia\, serif\; background-image: initial\; background-position: initial\; background-size: initial\; background-repeat: initial\; background-attachment: initial\; background-origin: initial\; background-clip: initial\;">When:</span></b><span style="font-family: Georgia\, serif\; background-image: initial\; background-position: initial\; background-size: initial\; background-repeat: initial\; background-attachment: initial\; background-origin: initial\; background-clip: initial\;">&nbsp\;Friday\, January 24\, at 3:00 PM</span></li>\n	<li style="margin-left: 15px\; color: rgb(36\, 36\, 36)\; margin-top: 0in\; margin-bottom: 0in\; vertical-align: baseline\;"><b><span style="font-family: Georgia\, serif\; background-image: initial\; background-position: initial\; background-size: initial\; background-repeat: initial\; background-attachment: initial\; background-origin: initial\; background-clip: initial\;">Where:</span></b><span style="font-family: Georgia\, serif\; background-image: initial\; background-position: initial\; background-size: initial\; background-repeat: initial\; background-attachment: initial\; background-origin: initial\; background-clip: initial\;">&nbsp\;Zoom</span></li>\n	<li style="margin-left: 15px\; color: rgb(36\, 36\, 36)\; margin-top: 0in\; margin-bottom: 0in\; vertical-align: baseline\;"><b><span style="font-family: Georgia\, serif\; background-image: initial\; background-position: initial\; background-size: initial\; background-repeat: initial\; background-attachment: initial\; background-origin: initial\; background-clip: initial\;">RSVP:</span></b><span style="font-family: Georgia\, serif\; background-image: initial\; background-position: initial\; background-size: initial\; background-repeat: initial\; background-attachment: initial\; background-origin: initial\; background-clip: initial\;">&nbsp\;</span><span style="font-family: Georgia\, serif\;"><a data-saferedirecturl="https://www.google.com/url?q=https://us02web.zoom.us/meeting/register/avPsKD48RBartpYqlr29dQ&amp\;source=gmail&amp\;ust=1737229452448000&amp\;usg=AOvVaw1rjbRnwQs8MT1HgT7weQvo" href="https://us02web.zoom.us/meeting/register/avPsKD48RBartpYqlr29dQ" style="color: rgb(17\, 85\, 204)\; cursor: pointer\;" target="_blank"><span style="background-image: initial\; background-position: initial\; background-size: initial\; background-repeat: initial\; background-attachment: initial\; background-origin: initial\; background-clip: initial\;">Link</span></a></span></li>\n	<li style="margin-left: 15px\; color: rgb(36\, 36\, 36)\; margin-top: 0in\; margin-bottom: 12pt\; vertical-align: baseline\;"><b><span style="font-family: Georgia\, serif\; background-image: initial\; background-position: initial\; background-size: initial\; background-repeat: initial\; background-attachment: initial\; background-origin: initial\; background-clip: initial\;">Questions:</span></b><span style="font-family: Georgia\, serif\; background-image: initial\; background-position: initial\; background-size: initial\; background-repeat: initial\; background-attachment: initial\; background-origin: initial\; background-clip: initial\;">&nbsp\;<a href="mailto:Valeria.Carranza@montgomerycountymd.gov" style="color: rgb(17\, 85\, 204)\; cursor: pointer\;" target="_blank">Valeria.Carranza@<wbr />montgomerycountymd.gov</a></span></li>\n</ul>\n
LOCATION:Zoom
UID:e.797.24739
SEQUENCE:3
DTSTAMP:20260423T224120Z
URL:https://business.rockvillechamber.org/events/details/beps-virtual-conversation-with-t-e-chair-evan-glass-and-director-jon-monger-24739
END:VEVENT

END:VCALENDAR
