BEGIN:VCALENDAR
VERSION:2.0
PRODID:-//ChamberMaster//Event Calendar 2.0//EN
METHOD:PUBLISH
X-PUBLISHED-TTL:P3D
REFRESH-INTERVAL:P3D
CALSCALE:GREGORIAN
BEGIN:VEVENT
DTSTART:20230920T210000Z
DTEND:20230920T230000Z
X-MICROSOFT-CDO-ALLDAYEVENT:FALSE
SUMMARY:Art & Appetizers: Capital Collections Auction Exhibition and Happy Hour
DESCRIPTION:Join us on Wednesday evening from 5pm to 7pm for a chance to view our Capital Collections Auction featuring an amazing selection of fine art by contemporary and old master artists\, estate and designer jewelry\, craft pottery\, silver\, English and American antiques\, and more! Come mingle with the art and the experts. See what catches your eye and get your questions about the auction process answered!
X-ALT-DESC;FMTTYPE=text/html:Join us on Wednesday evening from 5pm to 7pm for a chance to view our Capital Collections Auction featuring an amazing selection of fine art by contemporary and old master artists\, estate and designer jewelry\, craft pottery\, silver\, English and American antiques\, and more! Come mingle with the art and the experts. See what catches your eye and get your questions about the auction process answered!&nbsp\;&nbsp\;<br />\n<br />\n&nbsp\;
LOCATION:Weschler's Auctioneers & Appraisers - 40 West Gude Drive\, Suite 100\, Rockville\, Maryland 20850
UID:e.797.18933
SEQUENCE:3
DTSTAMP:20260422T182059Z
URL:https://business.rockvillechamber.org/events/details/art-appetizers-capital-collections-auction-exhibition-and-happy-hour-18933
END:VEVENT

END:VCALENDAR
