BEGIN:VCALENDAR
VERSION:2.0
PRODID:-//ChamberMaster//Event Calendar 2.0//EN
METHOD:PUBLISH
X-PUBLISHED-TTL:P3D
REFRESH-INTERVAL:P3D
CALSCALE:GREGORIAN
BEGIN:VEVENT
DTSTART:20220622T000000Z
DTEND:20220622T013000Z
X-MICROSOFT-CDO-ALLDAYEVENT:FALSE
SUMMARY:Anka Sings Sinatra: His Songs\, My Songs\, My Way
DESCRIPTION:Paul Anka crooned his way to stardom with hits like "Diana" and "Put Your Head On My Shoulder." But the pop heartthrob's unmatched songwriting gave him the chance to work with other greats of his time like Frank Sinatra further establishing him as an icon of popular music. We dare you not to sing along as Anka swings his way through a night of unforgettable classics made famous by Ol' Blue Eyes.
X-ALT-DESC;FMTTYPE=text/html:<span style="color:rgb(66\, 66\, 67)\; font-family:lora\,times new roman\,georgia\,sans-serif\; font-size:20px">Paul Anka crooned his way to stardom with hits like &ldquo\;Diana&rdquo\; and &ldquo\;Put Your Head On My Shoulder.&rdquo\; But the pop heartthrob&rsquo\;s unmatched songwriting gave him the chance to work with other greats of his time&mdash\;like Frank Sinatra&mdash\;further establishing him as an icon of popular music. We dare you not to sing along as Anka swings his way through a night of unforgettable classics made famous by Ol&rsquo\; Blue Eyes.</span>
LOCATION:The Music Center at Strathmore
UID:e.797.16289
SEQUENCE:3
DTSTAMP:20260423T160327Z
URL:https://business.rockvillechamber.org/events/details/anka-sings-sinatra-his-songs-my-songs-my-way-16289
END:VEVENT

END:VCALENDAR
