BEGIN:VCALENDAR
VERSION:2.0
PRODID:-//ChamberMaster//Event Calendar 2.0//EN
METHOD:PUBLISH
X-PUBLISHED-TTL:P3D
REFRESH-INTERVAL:P3D
CALSCALE:GREGORIAN
BEGIN:VEVENT
DTSTART:20230501T213000Z
DTEND:20230501T233000Z
X-MICROSOFT-CDO-ALLDAYEVENT:FALSE
SUMMARY:An Evening of Celebrations
DESCRIPTION:Join in the celebration as we officially launch the new Greater Rockville Chamber of Commerce website and honor our own Chamber of Commerce CEO/President of the Year\, Marji Graf\, on May 1\, 5:30PM\, at the headquarters of our member SERVPRO of Rockville-Olney\, 850 E. Gude Drive\, Ste H\, Rockville. You won't want to miss this one!
X-ALT-DESC;FMTTYPE=text/html:<span style="font-family: Arial\, Helvetica\, sans-serif\; font-size: small\;">Join in the celebration as we officially launch the new Greater Rockville Chamber of Commerce website and honor our own Chamber of Commerce CEO/President of the Year\, Marji Graf\, on May 1\, 5:30PM\, at the headquarters of our member SERVPRO of Rockville-Olney\,&nbsp\;</span><a data-saferedirecturl="https://www.google.com/url?q=https://www.google.com/maps/search/850%2BE.%2BGude%2BDrive\,%2BSte%2BH\,%2BRockville?entry%3Dgmail%26source%3Dg&amp\;source=gmail&amp\;ust=1681831848967000&amp\;usg=AOvVaw1NETpAIvo5rHpqaasTSQen" href="https://www.google.com/maps/search/850+E.+Gude+Drive\,+Ste+H\,+Rockville?entry=gmail&amp\;source=g" style="color: rgb(17\, 85\, 204)\; font-family: Arial\, Helvetica\, sans-serif\; font-size: small\;" target="_blank"><span style="text-decoration-line: none\;">850 E. Gude Drive\, Ste H\, Rockville</span></a><span style="font-family: Arial\, Helvetica\, sans-serif\; font-size: small\;">. You won&rsquo\;t want to miss this one!</span>
LOCATION:SERVPRO of Rockville-Olney 850 E Gude Dr.\, Suite H
UID:e.797.16942
SEQUENCE:3
DTSTAMP:20260422T090315Z
URL:https://business.rockvillechamber.org/events/details/an-evening-of-celebrations-16942
END:VEVENT

END:VCALENDAR
