BEGIN:VCALENDAR
VERSION:2.0
PRODID:-//ChamberMaster//Event Calendar 2.0//EN
METHOD:PUBLISH
X-PUBLISHED-TTL:P3D
REFRESH-INTERVAL:P3D
CALSCALE:GREGORIAN
BEGIN:VEVENT
DTSTART:20250519T170000Z
DTEND:20250519T190000Z
X-MICROSOFT-CDO-ALLDAYEVENT:FALSE
SUMMARY:Advocating for yourself & others in the hospital
DESCRIPTION:Monday\, May 19\, 2025\n\n\n\n\n\nJoin Steve at Oasis Lifelong Learning in Montgomery Mall's Macy's. Learn how best to advocate for yourself or a loved one during a hospital stay.\n\n\n\n\n\n1:00 PM Hybrid event on Zoom and live at Macy's Home Store (2nd floor)\, 7125 Democracy Blvd\, Bethesda\, MD 20817
X-ALT-DESC;FMTTYPE=text/html:<div>\n<div>\n<p>Monday\, May 19\, 2025</p>\n</div>\n</div>\n\n<div>\n<div>\n<div>Join Steve at Oasis Lifelong Learning in Montgomery Mall&rsquo\;s Macy&rsquo\;s. Learn how best to advocate for yourself or a loved one during a hospital stay.</div>\n</div>\n</div>\n\n<div>\n<div>\n<div>1:00 PM Hybrid event on Zoom and live at Macy&rsquo\;s Home Store (2nd floor)\, 7125 Democracy Blvd\, Bethesda\, MD 20817</div>\n</div>\n</div>\n
LOCATION:7125 Democracy Blvd\, Bethesda\, MD 20817
UID:e.797.25407
SEQUENCE:3
DTSTAMP:20260423T205854Z
URL:https://business.rockvillechamber.org/events/details/advocating-for-yourself-others-in-the-hospital-25407
END:VEVENT

END:VCALENDAR
