BEGIN:VCALENDAR
VERSION:2.0
PRODID:-//ChamberMaster//Event Calendar 2.0//EN
METHOD:PUBLISH
X-PUBLISHED-TTL:P3D
REFRESH-INTERVAL:P3D
CALSCALE:GREGORIAN
BEGIN:VEVENT
DTSTART:20230907T130000Z
DTEND:20230907T140000Z
X-MICROSOFT-CDO-ALLDAYEVENT:FALSE
SUMMARY:Adapting to the AI Revolution
DESCRIPTION:In the face of rapid AI advancements\, resistance to change and a fear of the unknown can leave businesses lagging in competitive markets. Delve into an exploration of current AI capabilities\, its limitations\, and its potential impact on your business. This presentation empowers participants to cast aside these fears\, embrace technological evolution\, and future-proof their businesses. Learn how to leverage current AI capabilities to increase your productivity\, as well as which critical skills that will keep you indispensable in an AI-driven landscape.\n\n\n\nPresented by Marcy Santos\, Bahar Consulting. Bahar Consulting is a leading authority in small business consulting\, coaching\, strategic planning\, financial management\, marketing strategy\, revenue growth\, and technology. Marcy Santos joined Bahar Consulting in 2021. She brings her entrepreneurial spirit to the team\, with a focus on helping business owners increase their company's adaptability and resilience against changing market trends. She currently serves on the GRCC's Board of Directors and was honored as the 2021 Chamber's Young Professional of the Year.
X-ALT-DESC;FMTTYPE=text/html:<span style="color: rgb(0\, 0\, 0)\;">In the face of rapid AI advancements\, resistance to change and a fear of the unknown can leave businesses lagging in competitive markets. Delve into an exploration of current AI capabilities\, its limitations\, and its potential impact on your business. This presentation empowers participants to cast aside these fears\, embrace technological evolution\, and future-proof their businesses. Learn how to leverage current AI capabilities to increase your productivity\, as well as which&nbsp\;critical skills that will keep you indispensable in an AI-driven landscape.</span><br />\n<br />\n<b style="color: rgb(0\, 0\, 0)\; font-family: Calibri\, Arial\, Helvetica\, sans-serif\; font-size: 16px\;">Presented by Marcy Santos\, Bahar Consulting.</b><span style="color: rgb(0\, 0\, 0)\;">&nbsp\;Bahar Consulting is a leading authority in small business consulting\, coaching\, strategic planning\, financial management\, marketing strategy\, revenue growth\, and technology.&nbsp\;</span><span style="color: rgb(0\, 0\, 0)\;">Marcy Santos joined Bahar Consulting in 2021.&nbsp\;She brings her entrepreneurial spirit to the team\, with a focus on helping business owners increase their company&rsquo\;s adaptability and resilience against changing market trends. She currently serves on the GRCC&#39\;s Board&nbsp\;of Directors and was honored as the&nbsp\;2021 Chamber&rsquo\;s Young Professional of the Year.</span>
LOCATION:Zoom
UID:e.797.18821
SEQUENCE:3
DTSTAMP:20260422T181354Z
URL:https://business.rockvillechamber.org/events/details/adapting-to-the-ai-revolution-18821
END:VEVENT

END:VCALENDAR
