BEGIN:VCALENDAR
VERSION:2.0
PRODID:-//ChamberMaster//Event Calendar 2.0//EN
METHOD:PUBLISH
X-PUBLISHED-TTL:P3D
REFRESH-INTERVAL:P3D
CALSCALE:GREGORIAN
BEGIN:VEVENT
DTSTART:20230906T123000Z
DTEND:20230906T140000Z
X-MICROSOFT-CDO-ALLDAYEVENT:FALSE
SUMMARY:Access to Capital Panel Discussion
DESCRIPTION:Access to Capital in-person panel discussion featuring:\n\n\n\nMichael Clark\, SVP of Business Development with AR Funding\, Inc (Accounts Receivables Funding\, Inc) for the last thirty-seven (37) years has worked financing businesses that engage with the Federal Government as either Prime or subcontractors.  Prior to AR Funding\, Mike held various positions developing and managing portfolios of businesses for other banks and lending companies in and around the Northern Virginia area. He is well-steeped in the subtle differences between government contract lending and the subsequent structuring of effective lending programs to meet his customer and his enterprise needs. \n\n \nLibo Suen\, Marketing and Outreach Team Supervisor\, U.S. Small Business Administration - Washington Metropolitan Area District Office (WMADO) leads WMADO's Marketing and Outreach team. He is the primary point of contact for all external communications and special events associated with promoting WMADO's business counseling\, training and entrepreneurial support programs. In addition to supervising three Economic Development Specialists\, Libo cultivates close working relationships with SBA's portfolio of preferred lenders in the Washington Metropolitan Area. Libo is a veteran of the United States Marine Corps. He earned his Bachelor of Arts degree from the University of Hartford and an MBA from The George Washington University.\n\n\n\nHoracio Chacon\, Capital Bank. Horacio Chacon is a relationship manager whose work is focused in the commercial and industrial sector of commercial lending. He specializes in lending money for commercial purposes\, such as funding business expansion\, funding owner-occupied commercial real estate\, purchasing equipment or inventory\, and meeting working capital needs. Commercial lenders assess the background\, industry\, and creditworthiness of a borrower\, analyze their financial statements and business plans\, and determine the terms and conditions of a loan. Commercial lenders offer term loans\, lines of credit\, and asset-based financing.\n\n\n\nSpeaking on available grants:\n\n\n\nCynthia Rivarde\, Rockville Economic Development\, Inc. (REDI). Cindy Rivarde serves as the Chief Executive Officer of Rockville Economic Development\, Inc. (REDI)\, which identifies and develops economic opportunities to help Rockville prosper and lead as a 21st-century city for business. With her 20+ year background in commercial real estate law and development\, she leads REDI in new and inventive ways to create economic growth\, attract and retain businesses\, and highlight Rockville as a premier community for businesses\, workers\, visitors\, and residents. She has previously served as a Deputy City Manager for Coral Springs\, Florida\, the Community and Economic Development Director for Modesto\, California (which included oversight of the City's Tourism and Convention Center)\, and the Economic and Cultural Development Director for Coral Gables\, Florida. She obtained her law degree from the University of Connecticut School of Law\, a Master of Fine Art in painting from Towson University\, and a bachelor of arts degree in dramatic art/studio art from the University of North Carolina.\n\n\n\nJan Abraham\, Worksource Montgomery. Jan Abraham has been a skilled business development manager engaging with businesses providing solutions for 30+ years. Currently\, she is with WorkSource Montgomery as a Business Solutions Consultant. WorkSource Montgomery is a community facilitator and connector identifying issues and acting with partners collaboratively to ensure mutually beneficial outcomes.\n\n\n\nPrior to WorkSource Montgomery\, she was an Employee Relations Manager with 22nd Century Technologies\, Inc. staffing for the NIH contract and overseeing 70+ Virginia State Contracts. She has her MBA from Marymount University in Marketing and Management and her BA from Ohio Wesleyan University in Political Science.\n\n\n\n\n\nEMCEE: Laura Nash - West Financial Services.\n\n\n\nLaura Nash is a Relationship Manager at West Financial Services serving business owners\, high net-worth families and especially women in transition. Laura's specialty is transforming complex financial issues into manageable plans. She works with clients across the country offering financial planning and investment management\, including retirement planning\, estate planning\, and philanthropic giving.\n\n\n\nLaura is a CERTIFIED FINANCIAL PLANNER  professional. She earned her BA and MBA degrees from George Washington University. She has a Certificate in Organizational Development from Georgetown University. She is the Chair of the Board of Directors for the Greater Rockville Chamber of Commerce.
X-ALT-DESC;FMTTYPE=text/html:<div dir="auto" style="color: rgb(34\, 34\, 34)\;"><span style="font-family: Arial\, Helvetica\, sans-serif\; font-size: 14px\;"><span style="font-family:arial\;">Access to Capital in-person panel discussion featuring:<br />\n<br />\n<strong>Michael Clark</strong>\, SVP of Business Development with AR Funding\, Inc (Accounts Receivables Funding\, Inc) for the last thirty-seven (37) years has worked financing businesses that engage with the Federal Government as either Prime or subcontractors.&nbsp\; Prior to AR Funding\, Mike held various positions developing and managing portfolios of businesses for other banks and lending companies in and around the Northern Virginia area. He is well-steeped in the subtle differences between government contract lending and the subsequent structuring of effective lending programs to meet his customer and his enterprise needs.&nbsp\;</span></span><br />\n&nbsp\;\n<div style="color: rgb(34\, 34\, 34)\;"><span style="font-size:14px\;"><span style="font-family:arial\;"><strong>Libo Suen</strong>\, Marketing and Outreach Team Supervisor\, U.S. Small Business&nbsp\;Administration - Washington Metropolitan Area District Office (WMADO) leads&nbsp\;WMADO&rsquo\;s Marketing and Outreach team. He is the primary point of contact for all&nbsp\;external communications and special events associated with promoting WMADO&rsquo\;s&nbsp\;business counseling\, training and entrepreneurial support programs. In addition to&nbsp\;supervising three Economic Development Specialists\, Libo cultivates close working&nbsp\;relationships with SBA&rsquo\;s portfolio of preferred lenders in the Washington Metropolitan&nbsp\;Area. Libo is a veteran of the United States Marine Corps. He earned his Bachelor of&nbsp\;Arts degree from the University of Hartford and an MBA from The George Washington&nbsp\;University.</span></span><br />\n<br />\n<span style="font-family: Arial\, Helvetica\, sans-serif\; font-size: 14px\;"><span style="font-family:arial\;"><strong style="letter-spacing: 0.4px\; white-space-collapse: preserve\;">Horacio Chacon\, </strong><span style="color: rgb(26\, 26\, 26)\; letter-spacing: 0.4px\; white-space-collapse: preserve\;">Capital Bank. </span>Horacio Chacon is a relationship manager whose work is focused in the commercial and industrial sector&nbsp\;of commercial lending. He specializes in lending money for commercial purposes\, such as funding&nbsp\;business expansion\, funding owner-occupied commercial real estate\, purchasing equipment or&nbsp\;inventory\, and meeting working capital needs.&nbsp\;Commercial lenders assess the background\, industry\, and creditworthiness of a borrower\, analyze their&nbsp\;financial statements and business plans\, and determine the terms and conditions of a loan. Commercial&nbsp\;lenders offer term loans\, lines of credit\, and asset-based financing.</span></span><br />\n<br />\n<span style="font-family: arial\; font-size: 14px\; color: rgb(26\, 26\, 26)\; letter-spacing: 0.4px\; white-space-collapse: preserve\;">Speaking on available grants:</span><br />\n<br />\n<strong style="font-family: arial\; font-size: 14px\; color: rgb(34\, 34\, 34)\;">Cynthia Rivarde</strong><span style="font-family: arial\; font-size: 14px\; color: rgb(34\, 34\, 34)\;">\, Rockville Economic Development\, Inc. (REDI).&nbsp\;Cindy Rivarde serves as the Chief Executive Officer of Rockville Economic Development\,&nbsp\;Inc. (REDI)\, which identifies and develops economic opportunities to help Rockville&nbsp\;prosper and lead as a 21st-century city for business. With her 20+ year background in&nbsp\;commercial real estate law and development\, she leads REDI in new and inventive ways&nbsp\;to create economic growth\, attract and retain businesses\, and highlight Rockville as a&nbsp\;premier community for businesses\, workers\, visitors\, and residents. She has previously&nbsp\;served as a Deputy City Manager for Coral Springs\, Florida\, the Community and&nbsp\;Economic Development Director for Modesto\, California (which included oversight of&nbsp\;the City&rsquo\;s Tourism and Convention Center)\, and the Economic and Cultural Development&nbsp\;Director for Coral Gables\, Florida. She obtained her law degree from the University of&nbsp\;Connecticut School of Law\, a Master of Fine Art in painting from Towson University\, and&nbsp\;a bachelor of arts degree in dramatic art/studio art from the University of North&nbsp\;Carolina.<br />\n<br />\n<strong>Jan Abraham</strong>\, Worksource Montgomery. </span><span style="font-family: Arial\, Helvetica\, sans-serif\; font-size: 14px\;"><span style="font-family:arial\;"><span style="color:black\;">Jan Abraham has been a skilled business development manager engaging with businesses providing solutions for 30+ years. Currently\, she is with WorkSource Montgomery as a Business Solutions Consultant. WorkSource Montgomery is a community facilitator and connector identifying issues and acting with partners collaboratively to ensure mutually beneficial outcomes.</span><br />\n<br />\nPrior to WorkSource Montgomery\, she was an Employee Relations Manager with 22<sup>nd</sup>&nbsp\;Century Technologies\, Inc. staffing for the NIH contract and overseeing 70+ Virginia State Contracts. She has her MBA from Marymount University in Marketing and Management and her BA from Ohio Wesleyan University in Political Science.</span></span></div>\n</div>\n\n<div dir="auto" style="color: rgb(34\, 34\, 34)\; font-family: Arial\, Helvetica\, sans-serif\; font-size: small\;">\n<div style="overflow-wrap: break-word\; color: rgb(26\, 26\, 26)\; font-family: Raleway\; font-size: 15px\; letter-spacing: 0.4px\; white-space-collapse: preserve\;"><br />\n<span style="font-size:14px\;"><span style="font-family:arial\;"><strong>EMCEE: Laura Nash - West Financial Services.</strong><br />\n<br />\nLaura Nash is a Relationship Manager at West Financial Services serving business owners\, high net-worth families and especially women in transition. Laura&#39\;s specialty is transforming complex financial issues into manageable plans. She works with clients across the country offering financial planning and investment management\, including retirement planning\, estate planning\, and philanthropic giving.<br />\n<br />\nLaura is a CERTIFIED FINANCIAL </span></span><span style="color: rgb(0\, 0\, 0)\; font-family: arial\; font-size: 14px\; letter-spacing: 0.4px\; white-space-collapse: preserve\;">PLANNER&trade\; professional. She earned her BA and MBA degrees from George Washington University. She has a Certificate in Organizational Development from Georgetown University. She is the Chair of the Board of Directors for the Greater Rockville Chamber of Commerce. </span></div>\n</div>\n
LOCATION:Cambria Hotel Rockville 1 Helen Heneghan Way Rockville\, MD 20850
UID:e.797.18831
SEQUENCE:3
DTSTAMP:20260422T162317Z
URL:https://business.rockvillechamber.org/events/details/access-to-capital-panel-discussion-18831
END:VEVENT

END:VCALENDAR
