BEGIN:VCALENDAR
VERSION:2.0
PRODID:-//ChamberMaster//Event Calendar 2.0//EN
METHOD:PUBLISH
X-PUBLISHED-TTL:P3D
REFRESH-INTERVAL:P3D
CALSCALE:GREGORIAN
BEGIN:VEVENT
DTSTART:20250510T160000Z
DTEND:20250510T190000Z
X-MICROSOFT-CDO-ALLDAYEVENT:FALSE
SUMMARY:A Gathering of Women’s Voices and Visions
DESCRIPTION:Six outstanding authors will gather together to share insights and readings from their inspiring books. See artwork by Sandra and Aaron Davis\, enjoy food and drinks\, and buy art and books for Mother's Day!
X-ALT-DESC;FMTTYPE=text/html:<span style="background-color:rgb(255\, 254\, 254)\; color:rgb(6\, 18\, 34)\; font-family:jost\,sans-serif\; font-size:20px">Six outstanding authors will gather together to share insights and readings from their inspiring books. See artwork by Sandra and Aaron Davis\, enjoy food and drinks\, and buy art and books for Mother&rsquo\;s Day!</span>
LOCATION:Capital Workspaces\, 4701 Sangamore Road\, #100 North\, Bethesda\, MD 20816
UID:e.797.25396
SEQUENCE:3
DTSTAMP:20260423T205930Z
URL:https://business.rockvillechamber.org/events/details/a-gathering-of-women-s-voices-and-visions-25396
END:VEVENT

END:VCALENDAR
