BEGIN:VCALENDAR
VERSION:2.0
PRODID:-//ChamberMaster//Event Calendar 2.0//EN
METHOD:PUBLISH
X-PUBLISHED-TTL:P3D
REFRESH-INTERVAL:P3D
CALSCALE:GREGORIAN
BEGIN:VEVENT
DTSTART:20241212T140000Z
DTEND:20241212T150000Z
X-MICROSOFT-CDO-ALLDAYEVENT:FALSE
SUMMARY:2024 Women's Mastermind Group
DESCRIPTION:Are you a woman entrepreneur who wants to focus better\, gain more traction\, and access trusted and reliable sounding boards? Then you will want to join this group\, comprised of your peers who are experts at making more money\, and creating a positive impact faster while you enjoy the progress and success you deserve.\n\n\n\nIf you are not yet a member of the GRCC and are interested in our mastermind groups\, we welcome you to learn more about our Chamber and the benefits of being a member. Reach out and we will be glad to talk to you!
X-ALT-DESC;FMTTYPE=text/html:<i style="color: rgb(34\, 34\, 34)\; font-family: Arial\, Helvetica\, sans-serif\; font-size: small\;"><span style="color: rgb(51\, 51\, 51)\; font-family: sans-serif\, Arial\, Verdana\, &quot\;Trebuchet MS&quot\;\; font-size: 13px\;">Are you a woman entrepreneur who wants to focus better\, gain more traction\, and access trusted and reliable sounding boards? Then you will want to join this group\, comprised of your peers who are experts at making more money\, and creating a positive impact faster while you enjoy the progress and success you deserve.</span><br style="color: rgb(51\, 51\, 51)\; font-family: sans-serif\, Arial\, Verdana\, &quot\;Trebuchet MS&quot\;\; font-size: 13px\;" />\n<br style="color: rgb(51\, 51\, 51)\; font-family: sans-serif\, Arial\, Verdana\, &quot\;Trebuchet MS&quot\;\; font-size: 13px\;" />\n<span style="color: rgb(51\, 51\, 51)\; font-family: sans-serif\, Arial\, Verdana\, &quot\;Trebuchet MS&quot\;\; font-size: 13px\;">If you are not yet a member of the GRCC and are interested in our mastermind groups\, we welcome you to learn more about our Chamber and the benefits of being a member.&nbsp\;Reach out and we will be glad to talk to you!</span><span style="color: rgb(51\, 51\, 51)\; font-family: sans-serif\, Arial\, Verdana\, &quot\;Trebuchet MS&quot\;\; font-size: 14px\;">&nbsp\;</span></i>
LOCATION:Zoom
UID:e.797.21519
SEQUENCE:3
DTSTAMP:20260423T225528Z
URL:https://business.rockvillechamber.org/events/details/2024-women-s-mastermind-group-12-19-2024-21519
END:VEVENT

END:VCALENDAR
