BEGIN:VCALENDAR
VERSION:2.0
PRODID:-//ChamberMaster//Event Calendar 2.0//EN
METHOD:PUBLISH
X-PUBLISHED-TTL:P3D
REFRESH-INTERVAL:P3D
CALSCALE:GREGORIAN
BEGIN:VEVENT
DTSTART;VALUE=DATE:20230617
DTEND;VALUE=DATE:20230618
TRANSP:TRANSPARENT
X-MICROSOFT-CDO-ALLDAYEVENT:TRUE
SUMMARY:132nd Anniversary of Lincoln Park Community
DESCRIPTION:What: 132nd Anniversary of Lincoln Park Community\, Rockville\, Maryland\n\nReserve your spot- 10 am (hometown parade) 12 pm (cultural celebration)\n\nWhen: Saturday\, June 17\, 2023\n\nLocation: Mt. Calvary Baptist Church\, 608 N. Horners Lane\, Rockville\, MD. 20850\n\nTime: 10:00 am - 6:00 pm
X-ALT-DESC;FMTTYPE=text/html:<p style="color: rgb(34\, 34\, 34)\; background-image: initial\; background-position: initial\; background-size: initial\; background-repeat: initial\; background-origin: initial\; background-clip: initial\; margin: 0in 0in 8pt\; line-height: 15.6933px\; font-size: 11pt\; font-family: Calibri\, sans-serif\;"><b style="font-size: 11pt\;"><span style="font-size: 12pt\; font-family: Arial\, sans-serif\; color: rgb(80\, 0\, 80)\;">What:</span></b><span style="font-size: 12pt\; font-family: Arial\, sans-serif\; color: rgb(80\, 0\, 80)\;">&nbsp\;<i>132<sup>nd</sup>&nbsp\;Anniversary of Lincoln Park Community\, Rockville\, Maryland</i></span></p>\n\n<p style="color: rgb(34\, 34\, 34)\; background-image: initial\; background-position: initial\; background-size: initial\; background-repeat: initial\; background-origin: initial\; background-clip: initial\; margin: 0in 0in 8pt\; line-height: 15.6933px\; font-size: 11pt\; font-family: Calibri\, sans-serif\;"><b><span style="font-size: 12pt\; font-family: Arial\, sans-serif\; background: yellow\; color: rgb(80\, 0\, 80)\;">Reserve your spot- 10 am (hometown parade) 12 pm (cultural celebration)</span></b></p>\n\n<p style="color: rgb(34\, 34\, 34)\; background-image: initial\; background-position: initial\; background-size: initial\; background-repeat: initial\; background-origin: initial\; background-clip: initial\; margin: 0in 0in 8pt\; line-height: 15.6933px\; font-size: 11pt\; font-family: Calibri\, sans-serif\;"><b><span style="font-size: 12pt\; font-family: Arial\, sans-serif\; color: rgb(80\, 0\, 80)\;">When:</span></b><span style="font-size: 12pt\; font-family: Arial\, sans-serif\; color: rgb(80\, 0\, 80)\;">&nbsp\;Saturday\, June 17\, 2023</span></p>\n\n<p style="color: rgb(34\, 34\, 34)\; background-image: initial\; background-position: initial\; background-size: initial\; background-repeat: initial\; background-origin: initial\; background-clip: initial\; margin: 0in 0in 8pt\; line-height: 15.6933px\; font-size: 11pt\; font-family: Calibri\, sans-serif\;"><b><span style="font-size: 12pt\; font-family: Arial\, sans-serif\; color: rgb(80\, 0\, 80)\;">Location:</span></b><span style="font-size: 12pt\; font-family: Arial\, sans-serif\; color: rgb(80\, 0\, 80)\;">&nbsp\;Mt. Calvary Baptist Church\,&nbsp\;<a data-saferedirecturl="https://www.google.com/url?q=https://www.google.com/maps/search/608%2BN.%2BHorners%2BLane\,%2BRockville\,%2BMD.%250D%250A%2B20850?entry%3Dgmail%26source%3Dg&amp\;source=gmail&amp\;ust=1687030191318000&amp\;usg=AOvVaw2YBvdx_cYIN8s7N4yyfWvX" href="https://www.google.com/maps/search/608+N.+Horners+Lane\,+Rockville\,+MD.%0D%0A+20850?entry=gmail&amp\;source=g" style="color: rgb(17\, 85\, 204)\;" target="_blank">608 N. Horners Lane\, Rockville\, MD. 20850</a></span></p>\n\n<p style="color: rgb(34\, 34\, 34)\; background-image: initial\; background-position: initial\; background-size: initial\; background-repeat: initial\; background-origin: initial\; background-clip: initial\; margin: 0in 0in 8pt\; line-height: 15.6933px\; font-size: 11pt\; font-family: Calibri\, sans-serif\;"><b><span style="font-size: 12pt\; font-family: Arial\, sans-serif\; color: rgb(80\, 0\, 80)\;">Time:</span></b><span style="font-size: 12pt\; font-family: Arial\, sans-serif\; color: rgb(80\, 0\, 80)\;">&nbsp\;10:00 am - 6:00 pm</span></p>\n
LOCATION:Mt. Calvary Baptist Church 608 N Horners Lane Rockville\, MD 20850
UID:e.797.16992
SEQUENCE:3
DTSTAMP:20260422T105903Z
URL:https://business.rockvillechamber.org/events/details/132nd-anniversary-of-lincoln-park-community-16992
END:VEVENT

END:VCALENDAR
