BEGIN:VCALENDAR
VERSION:2.0
PRODID:-//ChamberMaster//Event Calendar 2.0//EN
METHOD:PUBLISH
X-PUBLISHED-TTL:P3D
REFRESH-INTERVAL:P3D
CALSCALE:GREGORIAN
BEGIN:VEVENT
DTSTART:20211217T000000Z
DTEND:20211217T013000Z
X-MICROSOFT-CDO-ALLDAYEVENT:FALSE
SUMMARY:Virtual Creative Writing Workshops
DESCRIPTION:Creative writing is a tool for knowing yourself\, understanding the world\, and connecting with other people. Led by author Seema Reza and accomplished guest writers including poets\, memoirists\, novelists\, and storytellers these community workshops follow the model developed by Community Building Art Works (CBAW) over the course of a decade of bringing people together in military and hospital settings. Each workshop is designed to help participants put their personal stories on paper in a supportive environment.\n\nWhether you're just starting out or have been writing for years\, you are welcome\; no experience is required. Bring a pen\, a notebook\, and an open mind!
X-ALT-DESC;FMTTYPE=text/html:<p>Creative writing is a tool for knowing yourself\, understanding the world\, and connecting with other people. Led by author&nbsp\;<a href="https://www.strathmore.org/what-s-on/21-22-strathmore-season/creative-writing-workshops/#details" style="box-sizing: inherit\; margin: 0px\; padding: 0px\; vertical-align: baseline\; background: transparent\; transition: all 0.3s ease 0s\; color: rgb(66\, 66\, 67)\; position: relative\; text-decoration-color: rgb(241\, 91\, 59)\; outline: transparent solid 2px\; outline-offset: 3px\; font-weight: 700\;" title="Virtual Creative Writing Workshops">Seema Reza</a>&nbsp\;and accomplished guest writers&mdash\;including poets\, memoirists\, novelists\, and storytellers&mdash\;these community workshops follow the model developed by Community Building Art Works (CBAW) over the course of a decade of bringing people together in military and hospital settings. Each workshop is designed to help participants put their personal stories on paper in a supportive environment.</p>\n\n<p style="margin-left:0px\; margin-right:0px">Whether you&rsquo\;re just starting out or have been writing for years\, you are welcome\; no experience is required. Bring a pen\, a notebook\, and an open mind!</p>\n
LOCATION:Virtual on Zoom
UID:e.797.15917
SEQUENCE:3
DTSTAMP:20260423T053217Z
URL:http://business.rockvillechamber.org/events/details/virtual-creative-writing-workshops-12-16-2021-15917
END:VEVENT

END:VCALENDAR
