BEGIN:VCALENDAR
VERSION:2.0
PRODID:-//ChamberMaster//Event Calendar 2.0//EN
METHOD:PUBLISH
X-PUBLISHED-TTL:P3D
REFRESH-INTERVAL:P3D
CALSCALE:GREGORIAN
BEGIN:VEVENT
DTSTART:20260509T150000Z
DTEND:20260509T190000Z
X-MICROSOFT-CDO-ALLDAYEVENT:FALSE
SUMMARY:Safety Day
DESCRIPTION:Buckle up for Fun and Keep Safety Number One!\n\n\n\n\n\nSafety Day is a one-day event on May 9th that brings the community together to learn more about traffic safety in a fun\, festival environment. The event is appropriate for all ages and perfect for families to enjoy. There will be dozens of activities and community partners to visit with FREE giveaway and prizes.
X-ALT-DESC;FMTTYPE=text/html:<div style="margin-left:auto !important\; margin-right:auto !important">\n<div>\n<h3 style="text-align:center">Buckle up for Fun and Keep Safety Number One!</h3>\n</div>\n</div>\n\n<div style="margin-left:auto !important\; margin-right:auto !important">\n<div style="text-align:center">\n<p style="text-align:left">Safety Day is a one-day event on May 9th that brings the community together to learn more about traffic safety in a fun\, festival environment. The event is appropriate for all ages and perfect for families to enjoy. There will be dozens of activities and community partners to visit with FREE giveaway and prizes.</p>\n</div>\n</div>\n
LOCATION:Carver Educational Services Center (CESC) parking lot 850 Hungerford Dr. in Rockville\, MD
UID:e.797.26238
SEQUENCE:3
DTSTAMP:20260422T150847Z
URL:http://business.rockvillechamber.org/events/details/safety-day-26238
END:VEVENT

END:VCALENDAR
