BEGIN:VCALENDAR
VERSION:2.0
PRODID:-//ChamberMaster//Event Calendar 2.0//EN
METHOD:PUBLISH
X-PUBLISHED-TTL:P3D
REFRESH-INTERVAL:P3D
CALSCALE:GREGORIAN
BEGIN:VEVENT
DTSTART:20260515T150000Z
DTEND:20260515T170000Z
X-MICROSOFT-CDO-ALLDAYEVENT:FALSE
SUMMARY:Rockville Housing Enterprises David Scull Open House
DESCRIPTION:We cordially invite you to our Open House for the David Scull Community. This is an opportunity to learn more about Rockville Housing Enterprises and the services that we provide for our residents. \n\n \n\nPlease fill out the form below if you plan to attend.\n\nAttendance
X-ALT-DESC;FMTTYPE=text/html:<div>We cordially invite you to our Open House for the David Scull Community. This is an opportunity to learn more about Rockville Housing Enterprises and the services that we provide for our residents.&nbsp\;</div>\n\n<div>&nbsp\;</div>\n\n<div>Please fill out the form below if you plan to attend.</div>\n\n<div><a class="x_OWAAutoLink" href="https://forms.office.com/Pages/ResponsePage.aspx?id=HSA98LvPa0awoSCZSqJozG5Elc83mndGkdHT_VppllhUNURPOEtFNTJKVzE2VlVOV1ZMNU1XWTRDMi4u" id="OWA6d4002f8-e373-405e-b41d-e24637d46250" title="https://forms.office.com/Pages/ResponsePage.aspx?id=HSA98LvPa0awoSCZSqJozG5Elc83mndGkdHT_VppllhUNURPOEtFNTJKVzE2VlVOV1ZMNU1XWTRDMi4u">Attendance</a></div>\n
LOCATION:David Scull Community Center 1201 First Street\, Rockville\, MD 20850
UID:e.797.26241
SEQUENCE:3
DTSTAMP:20260422T170032Z
URL:http://business.rockvillechamber.org/events/details/rockville-housing-enterprises-david-scull-open-house-26241
END:VEVENT

END:VCALENDAR
