BEGIN:VCALENDAR
VERSION:2.0
PRODID:-//ChamberMaster//Event Calendar 2.0//EN
METHOD:PUBLISH
X-PUBLISHED-TTL:P3D
REFRESH-INTERVAL:P3D
CALSCALE:GREGORIAN
BEGIN:VEVENT
DTSTART:20260711T180000Z
DTEND:20260711T210000Z
X-MICROSOFT-CDO-ALLDAYEVENT:FALSE
SUMMARY:Peace Day & Cornhole Tournament
DESCRIPTION:Join hundreds of local neighbors\, elected leaders\, and businesses for an afternoon of family-friendly fun - Saturday\, July 11 (2-5pm) at World of Beer Rockville. \n\n\n\nThe City will be closing the street outside of the restaurant where the stage\, craft and activity tents\, faceprinting\, and cornhole games will be set up. \n\nThe annual Peace Day celebration honors the life and legacy of the late teen poet and peace ambassador\, Mattie J.T. Stepanek and serves as his namesake Foundation's main fundraising event.  \n\nNBCNews4's Tommy McFly is back as the emcee\, and the entertainment lineup includes Ocho de Bastos\, The Blarney Bench\, ZamDance\, and Jimmy Alexander. \n\nAs a part of the City\, County\, and State Peace Day Proclamation program - Mattie's mom (Dr. Jeni Stepanek - aka Mama Peace) will be leading the annual "Toast2Peace" community clink. \n\nAlso this year - the inaugural Cornhole for Peace Tournament - with a competitive bracket and open play options. \n\nEntry to the event is free. Cornhole participation is fee-based. And a portion of the food and drink sales will benefit the Mattie Stepanek Peace Foundation. \n\nLearn more on our News & Events page: www.MattiesPeaceFoundation.org
X-ALT-DESC;FMTTYPE=text/html:<p>Join hundreds of local neighbors\, elected leaders\, and businesses for an afternoon of family-friendly fun - Saturday\, July 11 (2-5pm) at World of Beer Rockville.&nbsp\;<br />\n<br />\nThe City will be closing the street outside of the restaurant where the stage\, craft and activity tents\, faceprinting\, and cornhole games will be set up.&nbsp\;</p>\n\n<p>The annual Peace Day celebration honors the life and legacy of the late teen poet and peace ambassador\, Mattie J.T. Stepanek and serves as his namesake Foundation&#39\;s main fundraising event. &nbsp\;</p>\n\n<p>NBCNews4&#39\;s Tommy McFly is back as the emcee\, and the entertainment lineup includes Ocho de Bastos\, The Blarney Bench\, ZamDance\, and Jimmy Alexander.&nbsp\;</p>\n\n<p>As a part of the City\, County\, and State Peace Day Proclamation program - Mattie&#39\;s mom (Dr. Jeni Stepanek - aka Mama Peace) will be leading the annual &quot\;Toast2Peace&quot\; community clink.&nbsp\;</p>\n\n<p>Also this year - the inaugural Cornhole for Peace Tournament - with a competitive bracket and open play options.&nbsp\;</p>\n\n<p>Entry to the event is free. Cornhole participation is fee-based. And a portion of the food and drink sales will benefit the Mattie Stepanek Peace Foundation.&nbsp\;</p>\n\n<p>Learn more on our News &amp\; Events page: www.MattiesPeaceFoundation.org&nbsp\;</p>\n
LOCATION:World of Beer\, Rockville (196 E. Montgomery Ave\, Rockville\, MD The City closes the street outside of WOB to accommodate the stage\, activity tents\, and tournament.
UID:e.797.26239
SEQUENCE:3
DTSTAMP:20260424T093541Z
URL:http://business.rockvillechamber.org/events/details/peace-day-cornhole-tournament-26239
END:VEVENT

END:VCALENDAR
