BEGIN:VCALENDAR
VERSION:2.0
PRODID:-//ChamberMaster//Event Calendar 2.0//EN
METHOD:PUBLISH
X-PUBLISHED-TTL:P3D
REFRESH-INTERVAL:P3D
CALSCALE:GREGORIAN
BEGIN:VEVENT
DTSTART:20260624T213000Z
DTEND:20260624T223000Z
X-MICROSOFT-CDO-ALLDAYEVENT:FALSE
SUMMARY:GRCC Board Meeting
DESCRIPTION:The Greater Rockville Chamber of Commerce Board Meeting happens on the 4th Wednesday of each month at the Chamber office. Please note that this meeting is for board members only and is not open to the public. We look forward to productive discussions as we continue to serve our members and the community
X-ALT-DESC;FMTTYPE=text/html:The Greater Rockville Chamber of Commerce Board Meeting happens on the 4th Wednesday of each month at the Chamber office. Please note that this meeting is for board members only and is not open to the public. We look forward to productive discussions as we continue to serve our members and the community
LOCATION:GRCC Office
UID:e.797.26102
SEQUENCE:3
DTSTAMP:20260420T121859Z
URL:http://business.rockvillechamber.org/events/details/grcc-board-meeting-06-24-2026-26102
END:VEVENT

END:VCALENDAR
