BEGIN:VCALENDAR
VERSION:2.0
PRODID:-//ChamberMaster//Event Calendar 2.0//EN
METHOD:PUBLISH
X-PUBLISHED-TTL:P3D
REFRESH-INTERVAL:P3D
CALSCALE:GREGORIAN
BEGIN:VEVENT
DTSTART:20260521T210000Z
DTEND:20260521T230000Z
X-MICROSOFT-CDO-ALLDAYEVENT:FALSE
SUMMARY:Cocktails & Commerce at Hilton Garden Inn
DESCRIPTION:Are you ready to expand your network\, forge new connections\, and unlock exciting opportunities? Join us for an evening of dynamic networking at our upcoming Cocktails and Commerce. \n\n\n\nMix and mingle with fellow professionals\, entrepreneurs\, and business leaders from diverse industries. Whether you're looking to explore potential collaborations\, seek advice\, or simply exchange ideas\, this event offers the perfect platform to make meaningful connections.\n\n\n\nHighlights of the evening include:\n\n	Engaging conversations with like-minded professionals\n	Opportunity to sponsor the event and showcase your business and services\n	Exchange of business cards and contact information\n	Refreshments and hors d'oeuvres\n\nDon't miss this chance to enhance your professional network and elevate your business prospects.  Remember\, success often stems from the relationships we cultivate.\n\n\n\nWe look forward to welcoming you to an evening of fruitful networking and camaraderie. Mark your calendars and RSVP now for an unforgettable evening of mixing business with pleasure!
X-ALT-DESC;FMTTYPE=text/html:Are you ready to expand your network\, forge new connections\, and unlock exciting&nbsp\;opportunities? Join us for an evening of dynamic networking at our upcoming Cocktails&nbsp\;and Commerce.&nbsp\;<br />\n<br />\nMix and mingle with fellow professionals\, entrepreneurs\, and business leaders from&nbsp\;diverse industries. Whether you&#39\;re looking to explore potential collaborations\, seek&nbsp\;advice\, or simply exchange ideas\, this event offers the perfect platform to make&nbsp\;meaningful connections.<br />\n<br />\nHighlights of the evening include:\n<ul>\n	<li>Engaging conversations with like-minded professionals</li>\n	<li>Opportunity to sponsor the event and showcase your business and services</li>\n	<li>Exchange of business cards and contact information</li>\n	<li>Refreshments and hors d&#39\;oeuvres</li>\n</ul>\nDon&#39\;t miss this chance to enhance your professional network and elevate your business&nbsp\;prospects.&nbsp\; Remember\, success often stems from the relationships we cultivate.<br />\n<br />\nWe look forward to welcoming you to an evening of fruitful networking and camaraderie. Mark your calendars and RSVP now for an unforgettable evening of mixing business with pleasure!<br />\n&nbsp\;
LOCATION:Hilton Garden Inn 14975 Shady Grove Rd Rockville\, MD 20850
UID:e.797.26124
SEQUENCE:3
DTSTAMP:20260422T170729Z
URL:http://business.rockvillechamber.org/events/details/cocktails-commerce-05-21-2026-26124
END:VEVENT

END:VCALENDAR
