BEGIN:VCALENDAR
VERSION:2.0
PRODID:-//ChamberMaster//Event Calendar 2.0//EN
METHOD:PUBLISH
X-PUBLISHED-TTL:P3D
REFRESH-INTERVAL:P3D
CALSCALE:GREGORIAN
BEGIN:VEVENT
DTSTART:20260514T120000Z
DTEND:20260514T160000Z
X-MICROSOFT-CDO-ALLDAYEVENT:FALSE
SUMMARY:City of Rockville Nonprofit Symposium: United for Impact
DESCRIPTION:Join us for the 2nd Annual City of Rockville Nonprofit Symposium\, an opportunity to come together\, share insights\, and strengthen collaboration across the nonprofit and civic community. Co-hosted with Nonprofit Montgomery\, this engaging morning is designed to foster meaningful dialogue between nonprofit leaders\, community partners\, and City leadership.\n\nThrough interactive discussions\, participants will explore shared challenges\, identify opportunities for partnership\, and align efforts to better serve the Rockville community. Hear directly from the Mayor and Council\, gain perspective from fellow nonprofit and community leaders\, and take part in small group conversations that offer a space to connect\, learn\, and move forward together\, united for impact. Link to Schedule and Speaker Biographies
X-ALT-DESC;FMTTYPE=text/html:<p><span style="font-family:arial\,helvetica\,sans-serif"><span style="font-size:14px">Join us for the 2nd Annual City of Rockville Nonprofit Symposium\, an opportunity to come together\, share insights\, and strengthen collaboration across the nonprofit and civic community. Co-hosted with Nonprofit Montgomery\, this engaging morning is designed to foster meaningful dialogue between nonprofit leaders\, community partners\, and City leadership.</span></span></p>\n\n<p><span style="font-family:arial\,helvetica\,sans-serif"><span style="font-size:14px">Through interactive discussions\, participants will explore shared challenges\, identify opportunities for partnership\, and align efforts to better serve the Rockville community. Hear directly from the Mayor and Council\, gain perspective from fellow nonprofit and community leaders\, and take part in small group conversations that offer a space to connect\, learn\, and move forward together\, united for impact.&nbsp\;<u><a href="https://drive.google.com/file/d/18y_TXJ1B7kqK997qP_BF-fW1fMxvGMGA/view">Link</a></u><a href="https://drive.google.com/file/d/18y_TXJ1B7kqK997qP_BF-fW1fMxvGMGA/view"><span style="background-color:rgb(244\, 246\, 249)\; color:rgb(60\, 65\, 68)"> to Schedule and Speaker Biographies </span></a></span></span></p>\n
LOCATION:VisArts\, 155 Gibbs St\, Rockville\, MD 20850
UID:e.797.26236
SEQUENCE:3
DTSTAMP:20260422T170151Z
URL:http://business.rockvillechamber.org/events/details/city-of-rockville-nonprofit-symposium-united-for-impact-26236
END:VEVENT

END:VCALENDAR
