BEGIN:VCALENDAR
VERSION:2.0
PRODID:-//ChamberMaster//Event Calendar 2.0//EN
METHOD:PUBLISH
X-PUBLISHED-TTL:P3D
REFRESH-INTERVAL:P3D
CALSCALE:GREGORIAN
BEGIN:VEVENT
DTSTART:20251121T160000Z
DTEND:20251121T170000Z
X-MICROSOFT-CDO-ALLDAYEVENT:FALSE
SUMMARY:California Fish Grill Ribbon Cutting
DESCRIPTION:We are excited to announce the ribbon-cutting ceremony at California Fish Grill\, scheduled for November 21\, 2025\, at 11:00 am\, at 12238 Rockville Pike\, Rockville\, MD 20852.\n\n \n\nCalifornia Fish Grill says\, "Sourcing 100% sustainable seafood isn't just what we do - it's who we are. The choices we make help ensure future generations can enjoy the same delicious seafood we do today." They invite us to join them in making an impact.  \n\n \n\nJoin us to celebrate the opening of their Rockville location and help us welcome them to the community.
X-ALT-DESC;FMTTYPE=text/html:<div>We are excited to announce the ribbon-cutting ceremony at California Fish Grill\, scheduled for November 21\, 2025\, at 11:00 am\, at 12238 Rockville Pike\, Rockville\, MD 20852.</div>\n\n<div>&nbsp\;</div>\n\n<div>California Fish Grill says\, &quot\;Sourcing 100% sustainable seafood isn&#39\;t just what we do - it&#39\;s who we are. The choices we make help ensure future generations can enjoy the same delicious seafood we do today.&quot\; They invite us to join them in making an impact.&nbsp\;&nbsp\;</div>\n\n<div>&nbsp\;</div>\n\n<div>Join us to celebrate the opening of their Rockville location and help us welcome them to the community.&nbsp\;&nbsp\;</div>\n\n<div>&nbsp\;</div>\n
LOCATION:12238 Rockville Pike Rockville\, MD 20852
UID:e.797.25988
SEQUENCE:3
DTSTAMP:20260426T033030Z
URL:http://business.rockvillechamber.org/events/details/california-fish-grill-ribbon-cutting-25988
END:VEVENT

END:VCALENDAR
